BEGIN:VCALENDAR
VERSION:2.0
PRODID:-//Kristelig Lægeforening - ECPv6.15.20//NONSGML v1.0//EN
CALSCALE:GREGORIAN
METHOD:PUBLISH
X-WR-CALNAME:Kristelig Lægeforening
X-ORIGINAL-URL:https://kristeliglaegeforening.dk
X-WR-CALDESC:Begivenheder for Kristelig Lægeforening
REFRESH-INTERVAL;VALUE=DURATION:PT1H
X-Robots-Tag:noindex
X-PUBLISHED-TTL:PT1H
BEGIN:VTIMEZONE
TZID:Europe/Paris
BEGIN:DAYLIGHT
TZOFFSETFROM:+0100
TZOFFSETTO:+0200
TZNAME:CEST
DTSTART:20250330T010000
END:DAYLIGHT
BEGIN:STANDARD
TZOFFSETFROM:+0200
TZOFFSETTO:+0100
TZNAME:CET
DTSTART:20251026T010000
END:STANDARD
BEGIN:DAYLIGHT
TZOFFSETFROM:+0100
TZOFFSETTO:+0200
TZNAME:CEST
DTSTART:20260329T010000
END:DAYLIGHT
BEGIN:STANDARD
TZOFFSETFROM:+0200
TZOFFSETTO:+0100
TZNAME:CET
DTSTART:20261025T010000
END:STANDARD
BEGIN:DAYLIGHT
TZOFFSETFROM:+0100
TZOFFSETTO:+0200
TZNAME:CEST
DTSTART:20270328T010000
END:DAYLIGHT
BEGIN:STANDARD
TZOFFSETFROM:+0200
TZOFFSETTO:+0100
TZNAME:CET
DTSTART:20271031T010000
END:STANDARD
BEGIN:DAYLIGHT
TZOFFSETFROM:+0100
TZOFFSETTO:+0200
TZNAME:CEST
DTSTART:20280326T010000
END:DAYLIGHT
BEGIN:STANDARD
TZOFFSETFROM:+0200
TZOFFSETTO:+0100
TZNAME:CET
DTSTART:20281029T010000
END:STANDARD
END:VTIMEZONE
BEGIN:VEVENT
DTSTART;TZID=Europe/Paris:20260521T190000
DTEND;TZID=Europe/Paris:20260521T213000
DTSTAMP:20260423T203505
CREATED:20251124T143332Z
LAST-MODIFIED:20251124T143332Z
UID:3269-1779390000-1779399000@kristeliglaegeforening.dk
SUMMARY:Trøst II - samtale om aktuel bog
DESCRIPTION:Det forventes\, at vi fortsætter samtalen om Esben Kjær og Lotte Mørks nye bog: Trøst.\nAlternativt aftales nyt emne den 24. februar. \nDet foregår på Mågestien 6\, Tranum\, 9460 Brovst. Alle er velkomne; men af hensyn til det praktiske bedes man tilmelde sig på tlf. 4041 2406 eller 4041 2485.
URL:https://kristeliglaegeforening.dk/event/troest-ii-samtale-om-aktuel-bog/
LOCATION:Tranum\, Mågestien 6\, Tranum\, Brovst\, 9460
CATEGORIES:Lokalgruppen af Kristne Læger i Nordjylland
ATTACH;FMTTYPE=image/png:https://kristeliglaegeforening.dk/wp-content/uploads/2023/06/nordjylland.png
ORGANIZER;CN="KLF%2C lokalgruppe Aalborg":MAILTO:hans.holmsgaard@gmail.com
END:VEVENT
BEGIN:VEVENT
DTSTART;VALUE=DATE:20260630
DTEND;VALUE=DATE:20260706
DTSTAMP:20260423T203505
CREATED:20251015T141339Z
LAST-MODIFIED:20260216T165031Z
UID:3160-1782777600-1783295999@kristeliglaegeforening.dk
SUMMARY:ICMDA Verdenskonference
DESCRIPTION:ICMDA – International Christian Medical and Dental Association – afholder verdenskonference cirka hvert 4. år. Næste gang er på den smukke ø Jeju i Sydkorea. \nFlere medlemmer af Kristelig Lægeforening har planlagt at tage afsted – og vil arrangere at ses og evt lave noget fælles dernede. Vil du høre mere om det\, så kontakt gerne Heidi Dahl Christensen\, formand@dkklf.dk \nDu kan se mere om Jeju som turistattraktion her. \nDu kan se mere om Verdenskonferencen og tilmelde dig her. \nEr du studerende og medlem af KLF\, kan du søge rejsetilskud. Se\, hvordan\, her.
URL:https://kristeliglaegeforening.dk/event/icmda-verdenskonference/
LOCATION:Jeju island\, Korea\, Republic of
CATEGORIES:Kristelig Lægeforening
ATTACH;FMTTYPE=image/jpeg:https://kristeliglaegeforening.dk/wp-content/uploads/2025/10/Event_Verdenskongres_2026.jpg
ORGANIZER;CN="ICMDA":MAILTO:formand@dkklf.dk
END:VEVENT
BEGIN:VEVENT
DTSTART;TZID=Europe/Paris:20261002T170000
DTEND;TZID=Europe/Paris:20261004T130000
DTSTAMP:20260423T203505
CREATED:20231118T141640Z
LAST-MODIFIED:20260312T075840Z
UID:2517-1790960400-1791118800@kristeliglaegeforening.dk
SUMMARY:Årsmøde 2026
DESCRIPTION:Velkommen på årsmøde 2026! \nFredag: Plastikkirurg Tine Damsgaard vil sige noget om kald og stand og karriereræs.\nLørdag: Psykiater Jørgen Due Madsen vil sige noget om Missionærers udfordring og trivsel fra et psykologisk og psykiatrisk perspektiv.\nSøndag: Christian (læge) og Elisa (præst) Wejse vil bidrage med forkyndelse og udsyn. \nMere info kommer senere. \n 
URL:https://kristeliglaegeforening.dk/event/aarsmoede-2026/
LOCATION:Dalum Landbrugsskole\, Landbrugsvej 65\, Odense S\, 5260\, Danmark
CATEGORIES:Kristelig Lægeforening
ATTACH;FMTTYPE=image/png:https://kristeliglaegeforening.dk/wp-content/uploads/2023/11/aarsmoede.png
END:VEVENT
BEGIN:VEVENT
DTSTART;TZID=Europe/Paris:20270123T120000
DTEND;TZID=Europe/Paris:20270123T160000
DTSTAMP:20260423T203505
CREATED:20260415T150309Z
LAST-MODIFIED:20260415T150309Z
UID:3337-1800705600-1800720000@kristeliglaegeforening.dk
SUMMARY:Vintermøde 2027
DESCRIPTION:Yderligere info kommer her\, når det nærmer sig.
URL:https://kristeliglaegeforening.dk/event/vintermoede-2027/
LOCATION:Nordvestkirken\, Rentemestervej 109\, København NV\, 2400\, Denmark
CATEGORIES:Kristelig Lægeforening
ATTACH;FMTTYPE=image/png:https://kristeliglaegeforening.dk/wp-content/uploads/2023/11/vintermoede.png
END:VEVENT
BEGIN:VEVENT
DTSTART;TZID=Europe/Paris:20270417T120000
DTEND;TZID=Europe/Paris:20270417T160000
DTSTAMP:20260423T203505
CREATED:20260128T155114Z
LAST-MODIFIED:20260128T155114Z
UID:3339-1807963200-1807977600@kristeliglaegeforening.dk
SUMMARY:Forårsmøde 2027
DESCRIPTION:Yderligere info kommer her\, når det nærmer sig
URL:https://kristeliglaegeforening.dk/event/foraarsmoede-2027/
LOCATION:Christianskirken\, Frederikshaldsgade 15\, Aarhus N\, 8200
CATEGORIES:Kristelig Lægeforening
ATTACH;FMTTYPE=image/png:https://kristeliglaegeforening.dk/wp-content/uploads/2023/11/foraarsmoede.png
END:VEVENT
BEGIN:VEVENT
DTSTART;TZID=Europe/Paris:20271008T170000
DTEND;TZID=Europe/Paris:20271010T130000
DTSTAMP:20260423T203505
CREATED:20260128T155440Z
LAST-MODIFIED:20260128T155440Z
UID:3341-1823014800-1823173200@kristeliglaegeforening.dk
SUMMARY:Årsmøde 2027
DESCRIPTION:Yderligere info kommer her\, når det nærmer sig.
URL:https://kristeliglaegeforening.dk/event/aarsmoede-2027/
LOCATION:Dalum Landbrugsskole\, Landbrugsvej 65\, Odense S\, 5260\, Danmark
CATEGORIES:Kristelig Lægeforening
ATTACH;FMTTYPE=image/png:https://kristeliglaegeforening.dk/wp-content/uploads/2023/11/aarsmoede.png
END:VEVENT
END:VCALENDAR